BEGIN:VCALENDAR
VERSION:2.0
PRODID:SchoolNow
CALSCALE:GREGORIAN
BEGIN:VEVENT
UID:9997db6e-8e9a-11f0-b5aa-0a58a9feac02
DTSTAMP:20251216T154535Z
SUMMARY:Country vs City
URL;VALUE=URI:https://www.dickinson.k12.nd.us/schools/dms/calendar/8606581/
 country-vs-city
DTSTART;VALUE=DATE:20250916
DTEND;VALUE=DATE:20250917
END:VEVENT
END:VCALENDAR
