BEGIN:VCALENDAR
VERSION:2.0
PRODID:SchoolNow
CALSCALE:GREGORIAN
BEGIN:VEVENT
UID:9997d150-8e9a-11f0-8c58-0a58a9feac02
DTSTAMP:20251216T154535Z
SUMMARY:BBQ Dad
URL;VALUE=URI:https://www.dickinson.k12.nd.us/schools/dms/calendar/8606580/
 bbq-dad
DTSTART;VALUE=DATE:20250917
DTEND;VALUE=DATE:20250918
END:VEVENT
END:VCALENDAR
