BEGIN:VCALENDAR
VERSION:2.0
PRODID:SchoolNow
CALSCALE:GREGORIAN
BEGIN:VEVENT
UID:1deb5b5e-5d02-11f0-83fc-0affe5530051
DTSTAMP:20251216T154535Z
SUMMARY:Last Day of School - Half Day
URL;VALUE=URI:https://www.dickinson.k12.nd.us/schools/dms/calendar/8400178/
 last-day-of-school-half-day
DTSTART:20260521T153000Z
DTEND:20260521T163000Z
END:VEVENT
END:VCALENDAR
