BEGIN:VCALENDAR
VERSION:2.0
PRODID:SchoolNow
CALSCALE:GREGORIAN
BEGIN:VEVENT
UID:1deb5a6e-5d02-11f0-9b3d-0affe5530051
DTSTAMP:20251216T154535Z
SUMMARY:No School - Easter Monday
URL;VALUE=URI:https://www.dickinson.k12.nd.us/schools/dms/calendar/8400177/
 no-school-easter-monday
DTSTART;VALUE=DATE:20260406
DTEND;VALUE=DATE:20260407
END:VEVENT
END:VCALENDAR
