BEGIN:VCALENDAR
VERSION:2.0
PRODID:SchoolNow
CALSCALE:GREGORIAN
BEGIN:VEVENT
UID:1deb597e-5d02-11f0-aaee-0affe5530051
DTSTAMP:20251216T154535Z
SUMMARY:No School - Good Friday
URL;VALUE=URI:https://www.dickinson.k12.nd.us/schools/dms/calendar/8400176/
 no-school-good-friday
DTSTART;VALUE=DATE:20260403
DTEND;VALUE=DATE:20260404
END:VEVENT
END:VCALENDAR
