BEGIN:VCALENDAR
VERSION:2.0
PRODID:SchoolNow
CALSCALE:GREGORIAN
BEGIN:VEVENT
UID:1deb578a-5d02-11f0-b5ba-0affe5530051
DTSTAMP:20251216T154535Z
SUMMARY:Early Release Day -
URL;VALUE=URI:https://www.dickinson.k12.nd.us/schools/dms/calendar/8400174/
 early-release-day
DTSTART:20260227T200000Z
DTEND:20260227T210000Z
END:VEVENT
END:VCALENDAR
