BEGIN:VCALENDAR
VERSION:2.0
PRODID:SchoolNow
CALSCALE:GREGORIAN
BEGIN:VEVENT
UID:1deb569a-5d02-11f0-91a4-0affe5530051
DTSTAMP:20251216T154535Z
SUMMARY:No School - Presidents Day
URL;VALUE=URI:https://www.dickinson.k12.nd.us/schools/dms/calendar/8400173/
 no-school-presidents-day
DTSTART;VALUE=DATE:20260216
DTEND;VALUE=DATE:20260217
END:VEVENT
END:VCALENDAR
