BEGIN:VCALENDAR
VERSION:2.0
PRODID:SchoolNow
CALSCALE:GREGORIAN
BEGIN:VEVENT
UID:1deb55aa-5d02-11f0-998d-0affe5530051
DTSTAMP:20251216T154535Z
SUMMARY:No School - Inservice Day
URL;VALUE=URI:https://www.dickinson.k12.nd.us/schools/dms/calendar/8400172/
 no-school-inservice-day
DTSTART;VALUE=DATE:20260119
DTEND;VALUE=DATE:20260120
END:VEVENT
END:VCALENDAR
