BEGIN:VCALENDAR
VERSION:2.0
PRODID:SchoolNow
CALSCALE:GREGORIAN
BEGIN:VEVENT
UID:1deb54a6-5d02-11f0-9ea8-0affe5530051
DTSTAMP:20251216T154535Z
SUMMARY:No School - Holiday Break
URL;VALUE=URI:https://www.dickinson.k12.nd.us/schools/dms/calendar/8400171/
 no-school-holiday-break
DTSTART;VALUE=DATE:20251222
DTEND;VALUE=DATE:20260103
END:VEVENT
END:VCALENDAR
