BEGIN:VCALENDAR
VERSION:2.0
PRODID:SchoolNow
CALSCALE:GREGORIAN
BEGIN:VEVENT
UID:1deb532a-5d02-11f0-8424-0affe5530051
DTSTAMP:20251216T154535Z
SUMMARY:No School - Thanksgiving Holiday
URL;VALUE=URI:https://www.dickinson.k12.nd.us/schools/dms/calendar/8400170/
 no-school-thanksgiving-holiday
DTSTART;VALUE=DATE:20251126
DTEND;VALUE=DATE:20251129
END:VEVENT
END:VCALENDAR
