BEGIN:VCALENDAR
VERSION:2.0
PRODID:SchoolNow
CALSCALE:GREGORIAN
BEGIN:VEVENT
UID:1deb517c-5d02-11f0-9101-0affe5530051
DTSTAMP:20251216T154535Z
SUMMARY:No School - Veterans Day
URL;VALUE=URI:https://www.dickinson.k12.nd.us/schools/dms/calendar/8400169/
 no-school-veterans-day
DTSTART;VALUE=DATE:20251111
DTEND;VALUE=DATE:20251112
END:VEVENT
END:VCALENDAR
