BEGIN:VCALENDAR
VERSION:2.0
PRODID:SchoolNow
CALSCALE:GREGORIAN
BEGIN:VEVENT
UID:1deb4f74-5d02-11f0-823d-0affe5530051
DTSTAMP:20251216T154535Z
SUMMARY:No School - Admin Conference
URL;VALUE=URI:https://www.dickinson.k12.nd.us/schools/dms/calendar/8400167/
 no-school-admin-conference
DTSTART;VALUE=DATE:20251016
DTEND;VALUE=DATE:20251018
END:VEVENT
END:VCALENDAR
