BEGIN:VCALENDAR
VERSION:2.0
PRODID:SchoolNow
CALSCALE:GREGORIAN
BEGIN:VEVENT
UID:1deb4e66-5d02-11f0-bd4d-0affe5530051
DTSTAMP:20251216T154535Z
SUMMARY:No School - Inservice Day
URL;VALUE=URI:https://www.dickinson.k12.nd.us/schools/dms/calendar/8400166/
 no-school-inservice-day
DTSTART;VALUE=DATE:20250929
DTEND;VALUE=DATE:20250930
END:VEVENT
END:VCALENDAR
