BEGIN:VCALENDAR
VERSION:2.0
PRODID:SchoolNow
CALSCALE:GREGORIAN
BEGIN:VEVENT
UID:1deb4d30-5d02-11f0-9c43-0affe5530051
DTSTAMP:20251216T154535Z
SUMMARY:No School - Labor Day
URL;VALUE=URI:https://www.dickinson.k12.nd.us/schools/dms/calendar/8400165/
 no-school-labor-day
DTSTART;VALUE=DATE:20250901
DTEND;VALUE=DATE:20250902
END:VEVENT
END:VCALENDAR
