BEGIN:VCALENDAR
VERSION:2.0
PRODID:SchoolNow
CALSCALE:GREGORIAN
BEGIN:VEVENT
UID:6f7abae8-fafd-11f0-9ba3-0e382b5ee827
DTSTAMP:20260126T212445Z
SUMMARY:NO SCHOOL
URL;VALUE=URI:https://www.dickinson.k12.nd.us/schools/berg/calendar/8844114
 /no-school
DTSTART:20260316T140000Z
DTEND:20260316T210000Z
END:VEVENT
END:VCALENDAR
