BEGIN:VCALENDAR
VERSION:2.0
PRODID:SchoolNow
CALSCALE:GREGORIAN
BEGIN:VEVENT
UID:3ecd39fc-fafd-11f0-926d-026cb038e047
DTSTAMP:20260126T212323Z
SUMMARY:Early Release
URL;VALUE=URI:https://www.dickinson.k12.nd.us/schools/berg/calendar/8844113
 /early-release
DTSTART:20260227T200000Z
DTEND:20260227T220000Z
END:VEVENT
END:VCALENDAR
