BEGIN:VCALENDAR
VERSION:2.0
PRODID:SchoolNow
CALSCALE:GREGORIAN
BEGIN:VEVENT
UID:899d1642-fafc-11f0-a077-026cb038e047
DTSTAMP:20260126T211819Z
SUMMARY:Manners Meal
URL;VALUE=URI:https://www.dickinson.k12.nd.us/schools/berg/calendar/8844096
 /manners-meal
DTSTART:20260213T180000Z
DTEND:20260213T200000Z
END:VEVENT
END:VCALENDAR
