BEGIN:VCALENDAR
VERSION:2.0
PRODID:SchoolNow
CALSCALE:GREGORIAN
BEGIN:VEVENT
UID:c98eac32-faf9-11f0-87b9-0a58a9feac02
DTSTAMP:20260126T205838Z
SUMMARY:NO SCHOOL
URL;VALUE=URI:https://www.dickinson.k12.nd.us/schools/berg/calendar/8844095
 /no-school
DTSTART:20260216T150000Z
DTEND:20260216T220000Z
END:VEVENT
END:VCALENDAR
