BEGIN:VCALENDAR
VERSION:2.0
PRODID:SchoolNow
CALSCALE:GREGORIAN
BEGIN:VEVENT
UID:ae18e08a-faf9-11f0-9af7-0a58a9feac02
DTSTAMP:20260126T205752Z
SUMMARY:Student-led Parent Teacher Conferences
URL;VALUE=URI:https://www.dickinson.k12.nd.us/schools/berg/calendar/8844094
 /student-led-parent-teacher-conferences
DTSTART:20260212T223000Z
DTEND:20260213T013000Z
END:VEVENT
END:VCALENDAR
