BEGIN:VCALENDAR
VERSION:2.0
PRODID:SchoolNow
CALSCALE:GREGORIAN
BEGIN:VEVENT
UID:96dd516c-faf9-11f0-94b3-0a58a9feac02
DTSTAMP:20260126T205713Z
SUMMARY:Student-led Parent Teacher Conferences
URL;VALUE=URI:https://www.dickinson.k12.nd.us/schools/berg/calendar/8844093
 /student-led-parent-teacher-conferences
DTSTART:20260210T223000Z
DTEND:20260211T013000Z
END:VEVENT
END:VCALENDAR
