BEGIN:VCALENDAR
VERSION:2.0
PRODID:SchoolNow
CALSCALE:GREGORIAN
BEGIN:VEVENT
UID:6a8b4044-c181-11f0-96ba-0a58a9feac02
DTSTAMP:20251114T174323Z
SUMMARY:Gateway to Science visits Berg
URL;VALUE=URI:https://www.dickinson.k12.nd.us/schools/berg/calendar/8795872
 /gateway-to-science-visits-berg
DTSTART:20251219T150000Z
DTEND:20251219T210000Z
END:VEVENT
END:VCALENDAR
