BEGIN:VCALENDAR
VERSION:2.0
PRODID:SchoolNow
CALSCALE:GREGORIAN
BEGIN:VEVENT
UID:349f7c3e-c181-11f0-a987-0a58a9feac02
DTSTAMP:20251114T174152Z
SUMMARY:WatchDog Dad Kickoff!
URL;VALUE=URI:https://www.dickinson.k12.nd.us/schools/berg/calendar/8795871
 /watchdog-dad-kickoff
DTSTART:20251120T003000Z
DTEND:20251120T020000Z
END:VEVENT
END:VCALENDAR
