BEGIN:VCALENDAR
VERSION:2.0
PRODID:SchoolNow
CALSCALE:GREGORIAN
BEGIN:VEVENT
UID:f07ec532-c180-11f0-9fa5-0afffa06ec9d
DTSTAMP:20251114T173958Z
SUMMARY:NO SCHOOL
URL;VALUE=URI:https://www.dickinson.k12.nd.us/schools/berg/calendar/8795870
 /no-school
DTSTART:20251222T150000Z
DTEND:20260104T220000Z
END:VEVENT
END:VCALENDAR
