BEGIN:VCALENDAR
VERSION:2.0
PRODID:SchoolNow
CALSCALE:GREGORIAN
BEGIN:VEVENT
UID:d1590bea-c180-11f0-8494-0a58a9feac02
DTSTAMP:20251114T173906Z
SUMMARY:3rd Grade Concert
URL;VALUE=URI:https://www.dickinson.k12.nd.us/schools/berg/calendar/8795869
 /3rd-grade-concert
DTSTART:20251205T013000Z
DTEND:20251205T023000Z
END:VEVENT
END:VCALENDAR
