BEGIN:VCALENDAR
VERSION:2.0
PRODID:SchoolNow
CALSCALE:GREGORIAN
BEGIN:VEVENT
UID:b0d1630e-c180-11f0-9b6d-0a58a9feac02
DTSTAMP:20251114T173811Z
SUMMARY:NO SCHOOL
URL;VALUE=URI:https://www.dickinson.k12.nd.us/schools/berg/calendar/8795868
 /no-school
DTSTART:20251126T150000Z
DTEND:20251128T220000Z
END:VEVENT
END:VCALENDAR
