BEGIN:VCALENDAR
VERSION:2.0
PRODID:SchoolNow
CALSCALE:GREGORIAN
BEGIN:VEVENT
UID:9064cfa2-c180-11f0-8092-0a58a9feac02
DTSTAMP:20251114T173717Z
SUMMARY:Vision Screening
URL;VALUE=URI:https://www.dickinson.k12.nd.us/schools/berg/calendar/8795867
 /vision-screening
DTSTART;VALUE=DATE:20251119
DTEND;VALUE=DATE:20251120
END:VEVENT
END:VCALENDAR
