BEGIN:VCALENDAR
VERSION:2.0
PRODID:SchoolNow
CALSCALE:GREGORIAN
BEGIN:VEVENT
UID:e8a90c8e-a2cf-11f0-92f5-0a58a9feac02
DTSTAMP:20251006T161709Z
SUMMARY:Veterans Day
URL;VALUE=URI:https://www.dickinson.k12.nd.us/schools/berg/calendar/8699589
 /veterans-day
DTSTART:20251111T150000Z
DTEND:20251111T220000Z
END:VEVENT
END:VCALENDAR
