BEGIN:VCALENDAR
VERSION:2.0
PRODID:SchoolNow
CALSCALE:GREGORIAN
BEGIN:VEVENT
UID:a7bd6f1c-a2cf-11f0-904f-0affe3b30109
DTSTAMP:20251006T161520Z
SUMMARY:NO SCHOOL
URL;VALUE=URI:https://www.dickinson.k12.nd.us/schools/berg/calendar/8699588
 /no-school
DTSTART:20251110T151000Z
DTEND:20251110T221000Z
END:VEVENT
END:VCALENDAR
