BEGIN:VCALENDAR
VERSION:2.0
PRODID:SchoolNow
CALSCALE:GREGORIAN
BEGIN:VEVENT
UID:3d236802-a2cd-11f0-9470-0e364e4f8e79
DTSTAMP:20251006T155802Z
SUMMARY:NO SCHOOL
URL;VALUE=URI:https://www.dickinson.k12.nd.us/schools/berg/calendar/8699586
 /no-school
DTSTART:20251016T140000Z
DTEND:20251017T210000Z
END:VEVENT
END:VCALENDAR
