BEGIN:VCALENDAR
VERSION:2.0
PRODID:SchoolNow
CALSCALE:GREGORIAN
BEGIN:VEVENT
UID:02540fac-7211-11f0-9f0a-0a58a9feac02
DTSTAMP:20250805T152942Z
SUMMARY:PAC meeting
URL;VALUE=URI:https://www.dickinson.k12.nd.us/schools/berg/calendar/8472167
 /pac-meeting
DTSTART:20250807T183000Z
DTEND:20250807T193000Z
END:VEVENT
END:VCALENDAR
