BEGIN:VCALENDAR
VERSION:2.0
PRODID:SchoolNow
CALSCALE:GREGORIAN
BEGIN:VEVENT
UID:bc0bd25a-7210-11f0-8b5f-029cfcd0439f
DTSTAMP:20250805T152744Z
SUMMARY:FIRST DAY OF SCHOOL
URL;VALUE=URI:https://www.dickinson.k12.nd.us/schools/berg/calendar/8472166
 /first-day-of-school
DTSTART:20250820T140000Z
DTEND:20250820T210000Z
END:VEVENT
END:VCALENDAR
