BEGIN:VCALENDAR
VERSION:2.0
PRODID:SchoolNow
CALSCALE:GREGORIAN
BEGIN:VEVENT
UID:9974097e-7210-11f0-876b-0affd0475fcb
DTSTAMP:20250805T152646Z
SUMMARY:Fall Open House 2025 School Year
URL;VALUE=URI:https://www.dickinson.k12.nd.us/schools/berg/calendar/8472165
 /fall-open-house-2025-school-year
DTSTART:20250818T230000Z
DTEND:20250819T000000Z
END:VEVENT
END:VCALENDAR
