BEGIN:VCALENDAR
VERSION:2.0
PRODID:SchoolNow
CALSCALE:GREGORIAN
BEGIN:VEVENT
UID:d737f560-2443-11f0-9f80-0ed6f4100cbf
DTSTAMP:20250428T151704Z
SUMMARY:LAST DAY OF SCHOOL
URL;VALUE=URI:https://www.dickinson.k12.nd.us/schools/berg/calendar/8026362
 /last-day-of-school
DTSTART:20250522T190000Z
DTEND:20250522T200000Z
END:VEVENT
END:VCALENDAR
