BEGIN:VCALENDAR
VERSION:2.0
PRODID:SchoolNow
CALSCALE:GREGORIAN
BEGIN:VEVENT
UID:9b7075f2-2443-11f0-811f-0a58a9feac02
DTSTAMP:20250428T151523Z
SUMMARY:Berg Pac Meeting
URL;VALUE=URI:https://www.dickinson.k12.nd.us/schools/berg/calendar/8026360
 /berg-pac-meeting
DTSTART:20250508T180000Z
DTEND:20250508T190000Z
END:VEVENT
END:VCALENDAR
