BEGIN:VCALENDAR
VERSION:2.0
PRODID:SchoolNow
CALSCALE:GREGORIAN
BEGIN:VEVENT
UID:79a5f942-2443-11f0-8267-0a58a9feac02
DTSTAMP:20250428T151427Z
SUMMARY:Teacher/Staff Appreciation Week
URL;VALUE=URI:https://www.dickinson.k12.nd.us/schools/berg/calendar/8026359
 /teacher-staff-appreciation-week
DTSTART:20250505T141000Z
DTEND:20250509T210000Z
END:VEVENT
END:VCALENDAR
