BEGIN:VCALENDAR
VERSION:2.0
PRODID:SchoolNow
CALSCALE:GREGORIAN
BEGIN:VEVENT
UID:5202f50c-2443-11f0-ade4-0a58a9feac02
DTSTAMP:20250428T151320Z
SUMMARY:Early Dismissal @ 1pm!
URL;VALUE=URI:https://www.dickinson.k12.nd.us/schools/berg/calendar/8026358
 /early-dismissal-1pm
DTSTART:20250502T190000Z
DTEND:20250502T210000Z
END:VEVENT
END:VCALENDAR
