BEGIN:VCALENDAR
VERSION:2.0
PRODID:SchoolNow
CALSCALE:GREGORIAN
BEGIN:VEVENT
UID:21ecfafc-2443-11f0-82f5-0affc7d06cfd
DTSTAMP:20250428T151159Z
SUMMARY:School Lunch Hero Day!
URL;VALUE=URI:https://www.dickinson.k12.nd.us/schools/berg/calendar/8026357
 /school-lunch-hero-day
DTSTART;VALUE=DATE:20250502
DTEND;VALUE=DATE:20250503
END:VEVENT
END:VCALENDAR
