BEGIN:VCALENDAR
VERSION:2.0
PRODID:SchoolNow
CALSCALE:GREGORIAN
BEGIN:VEVENT
UID:357af716-00e6-11f0-b608-0e767d10d9b5
DTSTAMP:20250314T150838Z
SUMMARY:1st Grade Music Concert
URL;VALUE=URI:https://www.dickinson.k12.nd.us/schools/berg/calendar/7682432
 /1st-grade-music-concert
DTSTART:20250416T003000Z
DTEND:20250416T013000Z
END:VEVENT
END:VCALENDAR
