BEGIN:VCALENDAR
VERSION:2.0
PRODID:SchoolNow
CALSCALE:GREGORIAN
BEGIN:VEVENT
UID:a8ccd92e-00e5-11f0-abe2-029309564303
DTSTAMP:20250314T150442Z
SUMMARY:Red\, White and Blue Day!
URL;VALUE=URI:https://www.dickinson.k12.nd.us/schools/berg/calendar/7682431
 /red-white-and-blue-day
DTSTART:20250331T140000Z
DTEND:20250331T210000Z
END:VEVENT
END:VCALENDAR
