BEGIN:VCALENDAR
VERSION:2.0
PRODID:SchoolNow
CALSCALE:GREGORIAN
BEGIN:VEVENT
UID:84cad38c-00e5-11f0-b725-0a58a9feac02
DTSTAMP:20250314T150342Z
SUMMARY:Sports Day!
URL;VALUE=URI:https://www.dickinson.k12.nd.us/schools/berg/calendar/7682430
 /sports-day
DTSTART:20250328T140000Z
DTEND:20250328T210000Z
END:VEVENT
END:VCALENDAR
