BEGIN:VCALENDAR
VERSION:2.0
PRODID:SchoolNow
CALSCALE:GREGORIAN
BEGIN:VEVENT
UID:f9610fe6-00e4-11f0-9d5a-0a58a9feac02
DTSTAMP:20250314T145948Z
SUMMARY:You are a Reading Rockstar!
URL;VALUE=URI:https://www.dickinson.k12.nd.us/schools/berg/calendar/7682428
 /you-are-a-reading-rockstar
DTSTART:20250324T140000Z
DTEND:20250324T210000Z
END:VEVENT
END:VCALENDAR
