BEGIN:VCALENDAR
VERSION:2.0
PRODID:SchoolNow
CALSCALE:GREGORIAN
BEGIN:VEVENT
UID:d215b9c8-00e4-11f0-8ace-0a58a9feac02
DTSTAMP:20250314T145842Z
SUMMARY:Reading Exercises your Brain
URL;VALUE=URI:https://www.dickinson.k12.nd.us/schools/berg/calendar/7682427
 /reading-exercises-your-brain
DTSTART:20250319T140000Z
DTEND:20250319T210000Z
END:VEVENT
END:VCALENDAR
