BEGIN:VCALENDAR
VERSION:2.0
PRODID:SchoolNow
CALSCALE:GREGORIAN
BEGIN:VEVENT
UID:bfe18006-6794-11ee-8f53-02cfd8c36dad
DTSTAMP:20231010T174506Z
SUMMARY:Salvation Army Coats for Kids
URL;VALUE=URI:https://www.dickinson.k12.nd.us/schools/berg/calendar/4851259
 /salvation-army-coats-for-kids
DTSTART:20231010T210000Z
DTEND:20231011T000000Z
END:VEVENT
END:VCALENDAR
