BEGIN:VCALENDAR
VERSION:2.0
PRODID:SchoolNow
CALSCALE:GREGORIAN
BEGIN:VEVENT
UID:a850d0c6-6470-11ee-86aa-0a58a9feac02
DTSTAMP:20231006T174911Z
SUMMARY:Happy Halloween
URL;VALUE=URI:https://www.dickinson.k12.nd.us/schools/berg/calendar/4838176
 /happy-halloween
DTSTART;VALUE=DATE:20231031
DTEND;VALUE=DATE:20231101
END:VEVENT
END:VCALENDAR
