BEGIN:VCALENDAR
VERSION:2.0
PRODID:SchoolNow
CALSCALE:GREGORIAN
BEGIN:VEVENT
UID:9b229196-6470-11ee-9bda-0a58a9feac02
DTSTAMP:20231006T174849Z
SUMMARY:Early Release @ 1:00 PM
URL;VALUE=URI:https://www.dickinson.k12.nd.us/schools/berg/calendar/4838175
 /early-release-1-00-pm
DTSTART;VALUE=DATE:20231006
DTEND;VALUE=DATE:20231007
END:VEVENT
END:VCALENDAR
