BEGIN:VCALENDAR
VERSION:2.0
PRODID:SchoolNow
CALSCALE:GREGORIAN
BEGIN:VEVENT
UID:8af1c490-6470-11ee-ab57-0a58a9feac02
DTSTAMP:20231006T174822Z
SUMMARY:Be Kind to Your School:  Wear Orange & Black
URL;VALUE=URI:https://www.dickinson.k12.nd.us/schools/berg/calendar/4838174
 /be-kind-to-your-school-wear-orange-black
DTSTART;VALUE=DATE:20231027
DTEND;VALUE=DATE:20231028
END:VEVENT
END:VCALENDAR
