BEGIN:VCALENDAR
VERSION:2.0
PRODID:SchoolNow
CALSCALE:GREGORIAN
BEGIN:VEVENT
UID:7aa4d6f4-6470-11ee-8b99-02de2adecef1
DTSTAMP:20231006T174755Z
SUMMARY:Be Kind to Your Body:  Wear Athletic Clothes
URL;VALUE=URI:https://www.dickinson.k12.nd.us/schools/berg/calendar/4838173
 /be-kind-to-your-body-wear-athletic-clothes
DTSTART;VALUE=DATE:20231026
DTEND;VALUE=DATE:20231027
END:VEVENT
END:VCALENDAR
