BEGIN:VCALENDAR
VERSION:2.0
PRODID:SchoolNow
CALSCALE:GREGORIAN
BEGIN:VEVENT
UID:578f6c9c-6470-11ee-aa41-0a58a9feac02
DTSTAMP:20231006T174656Z
SUMMARY:Be Kind to Others:  Wear Orange to Unite Against Bullying
URL;VALUE=URI:https://www.dickinson.k12.nd.us/schools/berg/calendar/4838172
 /be-kind-to-others-wear-orange-to-unite-against-bullying
DTSTART;VALUE=DATE:20231025
DTEND;VALUE=DATE:20231026
END:VEVENT
END:VCALENDAR
