BEGIN:VCALENDAR
VERSION:2.0
PRODID:SchoolNow
CALSCALE:GREGORIAN
BEGIN:VEVENT
UID:4d279cc4-646c-11ee-b48a-0e8c9380f26d
DTSTAMP:20231006T171800Z
SUMMARY:NO SCHOOL
URL;VALUE=URI:https://www.dickinson.k12.nd.us/schools/berg/calendar/4838161
 /no-school
DTSTART;VALUE=DATE:20231020
DTEND;VALUE=DATE:20231021
END:VEVENT
END:VCALENDAR
