BEGIN:VCALENDAR
VERSION:2.0
PRODID:SchoolNow
CALSCALE:GREGORIAN
BEGIN:VEVENT
UID:43691668-646c-11ee-8a78-0a58a9feac02
DTSTAMP:20231006T171744Z
SUMMARY:NO SCHOOL
URL;VALUE=URI:https://www.dickinson.k12.nd.us/schools/berg/calendar/4838160
 /no-school
DTSTART;VALUE=DATE:20231019
DTEND;VALUE=DATE:20231020
END:VEVENT
END:VCALENDAR
